BEGIN:VCALENDAR
VERSION:2.0
PRODID:-//hacksw/handcal//NONSGML v1.0//EN
CALSCALE:GREGORIAN
BEGIN:VEVENT
DTEND:20190830T193000Z
UID: 69e85e3047eba
DTSTAMP:20260422T003544Z
LOCATION:Thorson-Lucken Field
DESCRIPTION:The Augustana women's soccer team will kick off the&nbsp\;2019 season with a home game against Lawrence University.\n\nThe team has been tabbed for second place in the 2019 College Conference of Illinois &amp\; Wisconsin race\, according to a preseason poll of the league's coaches. The Vikings went 13-3-3 last season and 5-1-2 in conference play.\n
URL;VALUE=URI:https://www.augustana.edu/about-us/events/2019/womens-soccer-vs-lawrence
SUMMARY:Women's soccer vs. Lawrence
DTSTART:20190830T193000Z
END:VEVENT
END:VCALENDAR
