BEGIN:VCALENDAR
VERSION:2.0
PRODID:-//hacksw/handcal//NONSGML v1.0//EN
CALSCALE:GREGORIAN
BEGIN:VEVENT
DTEND:20190925T000000Z
UID: 69e85e261bbe2
DTSTAMP:20260422T003534Z
LOCATION:Thorson-Lucken Field
DESCRIPTION:The men's soccer team will take on Knox College at home.\n\nThe match will be live-streamed.\n\nThe Viking squad won its match over Coe College last Saturday to move to 2-2-1 on the year.&nbsp\;\n
URL;VALUE=URI:https://www.augustana.edu/about-us/events/2019/mens-soccer-vs-knox
SUMMARY:Men's soccer vs. Knox
DTSTART:20190925T000000Z
END:VEVENT
END:VCALENDAR
