BEGIN:VCALENDAR
VERSION:2.0
PRODID:-//hacksw/handcal//NONSGML v1.0//EN
CALSCALE:GREGORIAN
BEGIN:VEVENT
DTEND:20170430T010000Z
UID: 69e941ddd6e68
DTSTAMP:20260422T164709Z
LOCATION:
DESCRIPTION:Augustana's Percussion Ensemble will perform.&nbsp\;The ensemble\, directed by Dr. Tony Oliver\, presents two concerts each year featuring a mix of percussion music from the 1930 to today.\n\nEnsemble members include Maxwell Bestvina\, Barrie Chileen\, Caitlyn Costner\, Victoria Frank\, Camille Harris\, Sean Harty\, Ian Martin\, Kjersten Nelson and&nbsp\;Daniel Skelton.&nbsp\;\n\n&nbsp\;\n
URL;VALUE=URI:https://www.augustana.edu/about-us/events/2016/percussion-ensemble-concert
SUMMARY:Percussion Ensemble concert
DTSTART:20170430T010000Z
END:VEVENT
END:VCALENDAR
