BEGIN:VCALENDAR
VERSION:2.0
PRODID:-//hacksw/handcal//NONSGML v1.0//EN
CALSCALE:GREGORIAN
BEGIN:VEVENT
DTEND:20190830T220000Z
UID: 69e85e267944e
DTSTAMP:20260422T003534Z
LOCATION:Thorson-Lucken Field
DESCRIPTION:The Augustana men's soccer team will kick off the&nbsp\;2019 season with a home game against Simpson College.\n\nThe Augustana team finished the 2018 season with a record of 5-12 overall and 3-5 in the CCIW\, an improvement of two wins and two places from the previous year.\n
URL;VALUE=URI:https://www.augustana.edu/about-us/events/2019/mens-soccer-vs-simpson
SUMMARY:Men's soccer vs. Simpson
DTSTART:20190830T220000Z
END:VEVENT
END:VCALENDAR
