BEGIN:VCALENDAR
VERSION:2.0
PRODID:-//hacksw/handcal//NONSGML v1.0//EN
CALSCALE:GREGORIAN
BEGIN:VEVENT
DTEND:20190914T140000Z
UID: 69e860da5b3ce
DTSTAMP:20260422T004706Z
LOCATION:
DESCRIPTION:Augustana College will host the first Quad City Bass Fest\, a day-long workshop for bassists at all levels and all ages and a public recital.\n\nThe workshop and related events will run from 9 a.m.-8 p.m.&nbsp\;The Quad City Bass Fest Recital will begin at 6 p.m.\n\nActivities include an All State lecture and mock audition\, Quad City Symphony Youth Ensembles audition\, masterclasses\, bass ensembles\, lectures\, wellness\, instrument exhibits and performances. Cash prizes of $300\, $150 and $50 will be offered in the mock audition sponsored by Upton Bass.\n\nMasterclasses will be led by Augustana's Dr. Patricia Weitzel and Blake Shaw of Iowa City.\n
URL;VALUE=URI:https://www.augustana.edu/about-us/events/2019/quad-city-bass-fest
SUMMARY:Quad City Bass Fest
DTSTART:20190914T140000Z
END:VEVENT
END:VCALENDAR
