BEGIN:VCALENDAR
VERSION:2.0
PRODID:-//hacksw/handcal//NONSGML v1.0//EN
CALSCALE:GREGORIAN
BEGIN:VEVENT
DTEND:20230430T200000Z
UID: 69e9369ade002
DTSTAMP:20260422T155906Z
LOCATION:Bahls Campus Leadership Center
DESCRIPTION:The Augustana Chamber Singers Choir and Ascension Ringers will perform.\n
URL;VALUE=URI:https://www.augustana.edu/about-us/events/2023/augustana-chamber-singers-concert
SUMMARY:Chamber Singers and Ascension Ringers concert
DTSTART:20230430T200000Z
END:VEVENT
END:VCALENDAR
