BEGIN:VCALENDAR
VERSION:2.0
PRODID:-//hacksw/handcal//NONSGML v1.0//EN
CALSCALE:GREGORIAN
BEGIN:VEVENT
DTEND:20190907T180000Z
UID: 69e85dd4147f7
DTSTAMP:20260422T003412Z
LOCATION:Lower Quad
DESCRIPTION:Culture Fest is an annual event&nbsp\;full of music\, dance\, performances\, and food/activities from a variety of cultures. Events will run from 1-4 p.m.\n\nMost of the Augustana's cultural groups and organizations will be represented at this year's culture fest.\n\nThere will be a foam dance party and live DJ.\n\nCulture Fest is hosted by the Multicultural Programming Board in the Office of Student Life.\n
URL;VALUE=URI:https://www.augustana.edu/about-us/events/2019/culture-fest
SUMMARY:Culture Fest 
DTSTART:20190907T180000Z
END:VEVENT
END:VCALENDAR
