BEGIN:VCALENDAR
VERSION:2.0
PRODID:-//hacksw/handcal//NONSGML v1.0//EN
CALSCALE:GREGORIAN
BEGIN:VEVENT
DTEND:20211001T150000Z
UID: 69e85e3080bb7
DTSTAMP:20260422T003544Z
LOCATION:Brunner Theatre Center
DESCRIPTION:Augustana will celebrate an in-person Homecoming on Oct. 1-3\, 2021. Planning is dependent upon Illinois and Augustana COVID-19 guidelines and events are subject to change.\n\n→&nbsp\;Schedule of events\n
URL;VALUE=URI:https://www.augustana.edu/about-us/events/2020/homecoming
SUMMARY:Homecoming Oct. 1-3
DTSTART:20211001T150000Z
END:VEVENT
END:VCALENDAR
