BEGIN:VCALENDAR
VERSION:2.0
PRODID:-//hacksw/handcal//NONSGML v1.0//EN
CALSCALE:GREGORIAN
BEGIN:VEVENT
DTEND:20191013T000000Z
UID: 69e86103f05bf
DTSTAMP:20260422T004747Z
LOCATION:Centennial Hall
DESCRIPTION:The Augustana Symphonic Band's "From Japan to England to America" is&nbsp\;the first of two fall concerts.\n\nThis concert will feature works by Japanese composer Chang Su Koh\, two works by the British composer Martin Ellerby\, and works by the two American composers Daniel Montoya and Kevin Walczyk. One of the Ellerby compositions is a tuba concerto featuring Augustana faculty member\, Dr. Golden Lund.&nbsp\;\n\nThe second concert will begin at 7 p.m. Nov. 16 in Centennial Hall.\n
URL;VALUE=URI:https://www.augustana.edu/about-us/events/2019/augustana-symphonic-band-japan-england-america
SUMMARY:Augustana Symphonic Band: From Japan to England to America  
DTSTART:20191013T000000Z
END:VEVENT
END:VCALENDAR
