BEGIN:VCALENDAR
VERSION:2.0
PRODID:-//hacksw/handcal//NONSGML v1.0//EN
CALSCALE:GREGORIAN
BEGIN:VEVENT
DTEND:20211010T000000Z
UID: 69e870ae25e37
DTSTAMP:20260422T015438Z
LOCATION:Centennial Hall
DESCRIPTION:The Augustana Symphonic Band will celebrate its first official live performance&nbsp\;in nearly 18 months in a concert entitled "Opening Day."\n\nThe band\, directed by Dr. James Lambrecht\, will play four pieces\, two of which highlight the many new pieces that the band has been commissioning&nbsp\;in the last two years during the pandemic. (Learn more about the program.)\n\nThe concert will last about an hour with no intermission. The public is invited. Guests must wear masks inside Centennial Hall and&nbsp\;observe social distance seating by groups.\n
URL;VALUE=URI:https://www.augustana.edu/about-us/events/2021/augustana-symphonic-band-concert
SUMMARY:Augustana Symphonic Band 'Opening Day'
DTSTART:20211010T000000Z
END:VEVENT
END:VCALENDAR
