BEGIN:VCALENDAR
VERSION:2.0
PRODID:-//hacksw/handcal//NONSGML v1.0//EN
CALSCALE:GREGORIAN
BEGIN:VEVENT
DTEND:20191108T013000Z
UID: 69e86c17e81a0
DTSTAMP:20260422T013503Z
LOCATION:
DESCRIPTION:Music lovers ages 13-113 are invited to join in the Augustana Symphony Orchestra's John Williams Movie Night\, including music from "Jurassic Park\," "Harry Potter" and "Star Wars."\n\nMusic will be provided. Participants should bring their&nbsp\;instruments (and a folding music stand if possible).\n\nTeachers and students\, amateurs and professionals\, parents and&nbsp\;children\, active and retired musicians are welcome.&nbsp\;\n\nInstruments will include flute\, oboe\, clarinet\,&nbsp\;bassoon\,&nbsp\;French horn\,&nbsp\;trombone\, tuba\,&nbsp\;percussion\,&nbsp\;violin\,&nbsp\;viola\,&nbsp\;cello and double bass.\n\nRegister for Reading Night\n\nAnother reading night will be offered April 16\, 2020\, same time and place. The music will be Antonín Dvorák's&nbsp\;Symphony No. 9 in E minor\, op. 95&nbsp\;“From the New World.”&nbsp\;\n
URL;VALUE=URI:https://www.augustana.edu/about-us/events/2019/augustana-symphony-orchestra-reading-night
SUMMARY:Augustana Symphony Orchestra reading night
DTSTART:20191108T013000Z
END:VEVENT
END:VCALENDAR
