BEGIN:VCALENDAR
VERSION:2.0
PRODID:-//hacksw/handcal//NONSGML v1.0//EN
CALSCALE:GREGORIAN
BEGIN:VEVENT
DTEND:20221030T200000Z
UID: 69e7df9990264
DTSTAMP:20260421T153537Z
LOCATION:First Congregational Church
DESCRIPTION:The concert will feature a variety of choral literature with works from the Renaissance to the present. The two groups will perform works by some of the best-known present-day choral composers\, including Morton Lauridsen\, Eric Whitacre and Shawn Kirchner.\n\nThe Augustana Choir is a mixed ensemble of students.&nbsp\;Quad City Choral Arts is an ensemble of alumni and other community members.\n\nProgram\n\nAugustana Choral Artists\n\n"Song of Praise" by Knut Nystedt\n\n"Hosanna to the Son of David" by Orlando Gibbons\n\n"A Lullaby" by Ryan Murphy\n\n"Sudraba Mēness" by Laura Jekabsone\n\n"The Rose" by Ola Gjeilo\n\n"Goodnight Moon" by Eric Whitacre\n\nAugustana Choir\n\n"Alleluia" by Jake Runestad\n\n"Esto Les Digo" by Kinley Lange\n\nAbriana Tereza\, soloist\n\n"Afternoon on a Hill" by Eric Barnum\n\n"The Lamb" by John Taverner\n\n"Tyger" by Elaine Hagenberg\n\n"Sure On This Shining Night" by Morten Lauridsen\n\nCombined choirs\n\n"I’ll Be On My Way" by Shawn Kirchner\n\nDavid Baxter\, soloist\nJessica Cotturone\, violin\nSheila Doak\, piano\n
URL;VALUE=URI:https://www.augustana.edu/about-us/events/2022/choir-and-choral-artist-concert
SUMMARY:Augustana Choir and Choral Arts concert
DTSTART:20221030T200000Z
END:VEVENT
END:VCALENDAR
