BEGIN:VCALENDAR
VERSION:2.0
PRODID:-//hacksw/handcal//NONSGML v1.0//EN
CALSCALE:GREGORIAN
BEGIN:VEVENT
DTEND:20210918T230000Z
UID: 69e86c4028c12
DTSTAMP:20260422T013544Z
LOCATION:Quad
DESCRIPTION:The Augustana Vikings will play a Family Weekend football game vs. the Big Blue of Millikin University.\n\nThe game will be live-streamed.\n\nOther home games:\n\nOct. 2 vs. North Park University\, 1 p.m. (Homecoming)\nOct. 16 vs. Washington University\, 1 p.m.\nOct. 23 vs. Carroll University\, 1 p.m.\nNov. 6 vs. Elmhurst University\, 1 p.m.\n\nComplete schedule\n
URL;VALUE=URI:https://www.augustana.edu/about-us/events/2019/football-vs-millikin
SUMMARY:Football vs. Millikin
DTSTART:20210918T230000Z
END:VEVENT
END:VCALENDAR
