BEGIN:VCALENDAR
VERSION:2.0
PRODID:-//hacksw/handcal//NONSGML v1.0//EN
CALSCALE:GREGORIAN
BEGIN:VEVENT
DTEND:20190921T230000Z
UID: 69e86c89487ac
DTSTAMP:20260422T013657Z
LOCATION:Quad
DESCRIPTION:The Augustana Vikings will play their Family Weekend game vs. the Elmhurst College Bluejays.&nbsp\;\n\nThe game will be live-streamed.\n\nThe&nbsp\;Augustana team is coming off a bye week.&nbsp\;Augustana won its season opener 41-3 over Coe at home on Sept.&nbsp\;7.\n\nOther home games:\nOct. 5 vs. Millikin University (Homecoming)\, 1 p.m.\nOct. 19 vs. North Park University\, 1 p.m.\nNov. 9 vs. John Carroll University (Senior Day)\, 1 p.m.\n
URL;VALUE=URI:https://www.augustana.edu/about-us/events/2019/football-vs-elmhurst
SUMMARY:Football vs. Elmhurst
DTSTART:20190921T230000Z
END:VEVENT
END:VCALENDAR
