BEGIN:VCALENDAR
VERSION:2.0
PRODID:-//hacksw/handcal//NONSGML v1.0//EN
CALSCALE:GREGORIAN
BEGIN:VEVENT
DTEND:20170312T200000Z
UID: 69e9369adcd34
DTSTAMP:20260422T155906Z
LOCATION:St. Paul Lutheran Church
DESCRIPTION:Back from its tour of the Midwest\, the Augustana Choir will return home to share the music from the tour.\n\nProgram\n\nConsecrate the Place and Day\, Lloyd Pfautsch&nbsp\;\n\nHark I Hear the Harps Eternal\, arr. Alice Parker&nbsp\;\n\nExsultate\, Brian Edward Galante (b. 1974)&nbsp\;\n\nEsto Les Digo\, Kinley Lange (b. 1950)&nbsp\;\n&nbsp\; &nbsp\;Katie Griswold\, soprano&nbsp\;\n\nImprovisation on Ubi Caritas\n&nbsp\; &nbsp\;Ubi Caritas\, Gregorian Chant\n&nbsp\; &nbsp\;Ubi Caritas\, Maurice Duruflé (1902-1986)&nbsp\;\n&nbsp\; &nbsp\;Tu es Petrus\, Gregorian Chant\n&nbsp\; &nbsp\;Tu es Petrus\, Maurice Duruflé&nbsp\;\n\nAlleluia\, Fredrik Sixten (b. 1962)&nbsp\;\n\nÕhtul\, Pärt Uusberg (b. 1986)&nbsp\;\n\nRotala\, Juris Karlsons (b. 1948)&nbsp\;\n\nFengyang Song\, arr. Chen Yi (b. 1953)&nbsp\;\n\nMo-Li-Hua\, arr. Hyo-won Woo (b. 1974)&nbsp\;\n\nMamayog Akun\, Fabian Obispo (b. 1947)&nbsp\;\n\nLet My Love Be Heard\, Jake Runestad (b. 1986)&nbsp\;\n\nSo I’ll Sing With My Voice\, Dominick Argento (b. 1927)&nbsp\;\n\nChildren of the Heavenly Father\, arr. Jon Hurty (b. 1959)\n
URL;VALUE=URI:https://www.augustana.edu/about-us/events/2016/augustana-choir-home-concert
SUMMARY:Augustana Choir Home Concert
DTSTART:20170312T200000Z
END:VEVENT
END:VCALENDAR
