BEGIN:VCALENDAR
VERSION:2.0
PRODID:-//hacksw/handcal//NONSGML v1.0//EN
CALSCALE:GREGORIAN
BEGIN:VEVENT
DTEND:20170312T030000Z
UID: 69e9368f0477e
DTSTAMP:20260422T155855Z
LOCATION:Centennial Hall
DESCRIPTION:The Augustana Symphonic Band will perform the program from its recent performance tour of Spain.&nbsp\;\n\nProgram\n\nFiesta del Pacifico (1960)\nRoger Nixon (1921-2009)\n\nRest (2010)\nFrank Ticheli (born 1958)\n\nSymphonic Dance from West Side Story (1967/2006)\nLeonard Bernstein (1918-1990)\, transcribed for band by Paul Lavender\n\nThe Cowboys from the motion picture "The Cowboys" (1972/186)\nJohn Williams (born 1932)\, arranged by Jim Curnow\n\nThe White Rose March (1917/2003)\nJohn Philip Sousa (1854-1932)\, arranged by Keith Brion\n
URL;VALUE=URI:https://www.augustana.edu/about-us/events/2016/augustana-symphonic-band-home-concert
SUMMARY:Augustana Symphonic Band Home Concert
DTSTART:20170312T030000Z
END:VEVENT
END:VCALENDAR
