BEGIN:VCALENDAR
VERSION:2.0
PRODID:-//hacksw/handcal//NONSGML v1.0//EN
CALSCALE:GREGORIAN
BEGIN:VEVENT
DTEND:20190907T180000Z
UID: 69e86ffa01998
DTSTAMP:20260422T015138Z
LOCATION:Quad
DESCRIPTION:The Augustana Vikings will play the Knowlton Kickoff Classic vs. the Coe College Kohawks.\n\nThe game will be live-streamed.\n\nOther home games:\n\nSept. 21 vs. Elmhurst College\, 6 p.m.\nOct. 5 vs. Millikin University (Homecoming)\, 1 p.m.\nOct. 19 vs. North Park University\, 1 p.m.\nNov. 9 vs. John Carroll University (Senior Day)\, 1 p.m.\n
URL;VALUE=URI:https://www.augustana.edu/about-us/events/2019/knowlton-kickoff-classic-augustana-vs-coe-college
SUMMARY:Knowlton Kickoff Classic: Augustana vs. Coe College
DTSTART:20190907T180000Z
END:VEVENT
END:VCALENDAR
