BEGIN:VCALENDAR
VERSION:2.0
PRODID:-//hacksw/handcal//NONSGML v1.0//EN
CALSCALE:GREGORIAN
BEGIN:VEVENT
DTEND:20190916T161500Z
UID: 69e8702326503
DTSTAMP:20260422T015219Z
LOCATION:Wilson Center
DESCRIPTION:Katherine Beydler\, a Ph.D. candidate in Classical Studies at the University of Michigan\, will discuss her latest project\, which focuses on using archaeobotanical evidence to better understand the trade and spread of medical ingredients in the Roman Empire.&nbsp\;\n\nHer talk is sponsored by the Department of Classics.\n
URL;VALUE=URI:https://www.augustana.edu/about-us/events/2019/archaeology-roman-medicine-botanical-perspective
SUMMARY:The Archaeology of Roman Medicine: A Botanical Perspective 
DTSTART:20190916T161500Z
END:VEVENT
END:VCALENDAR
