BEGIN:VCALENDAR
VERSION:2.0
PRODID:-//hacksw/handcal//NONSGML v1.0//EN
CALSCALE:GREGORIAN
BEGIN:VEVENT
DTEND:20190811T201158Z
UID: 69e8738686990
DTSTAMP:20260422T020646Z
LOCATION:Augie's Booze and Schmooze
DESCRIPTION:Alumni and friends of the college are invited to the&nbsp\;dedication of Augie's Booze and Schmooze\, Chicago\, from&nbsp\;noon-4 p.m.&nbsp\;\n\nAt 2&nbsp\;p.m.\, there will be an official dedication&nbsp\;of Augie's Booze and Schmooze bar with an Augustana College train car and street sign.\n\nThere will be free appetizers and a cash bar.&nbsp\;Specialty Augustana cocktails will be available\, plus yard games and sand volleyball.\n\n&nbsp\;\n
URL;VALUE=URI:https://www.augustana.edu/about-us/events/2019/dedication-augies-booze-and-schmooze
SUMMARY:Dedication of Augie's Booze and Schmooze 
DTSTART:20190811T201158Z
END:VEVENT
END:VCALENDAR
