BEGIN:VCALENDAR
VERSION:2.0
PRODID:-//hacksw/handcal//NONSGML v1.0//EN
CALSCALE:GREGORIAN
BEGIN:VEVENT
DTEND:20190727T143000Z
UID: 69e8738710429
DTSTAMP:20260422T020647Z
LOCATION:Armored Gardens
DESCRIPTION:Augustana College alumni and friends are invited to&nbsp\;a post-Bix race party. Runners\, walkers and spectators are welcome starting at 9:30 a.m. to enjoy refreshments and&nbsp\;Augie swag.\n\nThis year will be the 45th annual Bix 7 race through the streets of Davenport&nbsp\;\n
URL;VALUE=URI:https://www.augustana.edu/about-us/events/2019/augustana-post-race-pop
SUMMARY:Augustana post-race pop-up
DTSTART:20190727T143000Z
END:VEVENT
END:VCALENDAR
