BEGIN:VCALENDAR
VERSION:2.0
PRODID:-//hacksw/handcal//NONSGML v1.0//EN
CALSCALE:GREGORIAN
BEGIN:VEVENT
DTEND:20190530T140000Z
UID: 69e8734dd007b
DTSTAMP:20260422T020549Z
LOCATION:Bahls Campus Leadership Center
DESCRIPTION:Augustana College will offer an&nbsp\;Ascension Day service and brunch.&nbsp\;Pastor Allison Bengfort of&nbsp\;St. John's Lutheran Church in&nbsp\;Wilmette\, Ill.\, will&nbsp\; give the sermon.\n\nThe service will begin at 9 a.m. and free brunch at 10 a.m.&nbsp\;RSVP by&nbsp\;email to&nbsp\;Connie Huntley for the brunch.\n\nAscension Day commemorates the Christian belief of the bodily ascension of Jesus into heaven. It is one of the&nbsp\;universally celebrated&nbsp\;feasts of Christian churches.\n
URL;VALUE=URI:https://www.augustana.edu/about-us/events/2019/ascension-day-worship-and-brunch
SUMMARY: Ascension Day worship and brunch
DTSTART:20190530T140000Z
END:VEVENT
END:VCALENDAR
