BEGIN:VCALENDAR
VERSION:2.0
PRODID:-//hacksw/handcal//NONSGML v1.0//EN
CALSCALE:GREGORIAN
BEGIN:VEVENT
DTEND:20190523T233000Z
UID: 69e873ca3d151
DTSTAMP:20260422T020754Z
LOCATION:Niabi Zoo
DESCRIPTION:Augustana's Dr. Jennifer Burnham\, associate professor of geography\, and her husband\, Dr. Kurt Burnham\, will present "Birds of the High Arctic: 28 Years of Avian Research in Greenland." They will discuss results of their long-term research on raptors\, seabirds and waterfowl from the high Arctic of northwest Greenland and impact of climate change on these species.\n\nThe presentation is part of the Conservation &amp\; Science Speaker Series at Niabi Zoo\, Coal Valley\, Ill.\n
URL;VALUE=URI:https://www.augustana.edu/about-us/events/2019/conservation-series-jennifer-and-kurt-burnham
SUMMARY:Conservation Series: Jennifer and Kurt Burnham
DTSTART:20190523T233000Z
END:VEVENT
END:VCALENDAR
