BEGIN:VCALENDAR
VERSION:2.0
PRODID:-//hacksw/handcal//NONSGML v1.0//EN
CALSCALE:GREGORIAN
BEGIN:VEVENT
DTEND:20190522T000000Z
UID: 69e8733602327
DTSTAMP:20260422T020526Z
LOCATION:Bettendorf Public Library
DESCRIPTION:Dr. Chris Strunk\, assistant professor of geography at Augustana College\, will present "The Global Midwest: Immigration Landscape and Change in the Midwest."\n\nThis presentation examines the new geography of immigrant and refugee settlement in the rural Midwest in the context of the region's long history of global connections.\n\nThis program is co-sponsored by the Bettendorf Public Library and the World Affairs Council.\n
URL;VALUE=URI:https://www.augustana.edu/about-us/events/2019/global-midwest-immigration-landscape-and-change-midwest
SUMMARY:The Global Midwest: Immigration Landscape and Change in the Midwest
DTSTART:20190522T000000Z
END:VEVENT
END:VCALENDAR
