BEGIN:VCALENDAR
VERSION:2.0
PRODID:-//hacksw/handcal//NONSGML v1.0//EN
CALSCALE:GREGORIAN
BEGIN:VEVENT
DTEND:20190427T150000Z
UID: 69e5dfe705d08
DTSTAMP:20260420T031223Z
LOCATION:Brodahl Hall
DESCRIPTION:A groundbreaking ceremony for the expansion of Betsey Brodahl Hall will be held.&nbsp\;\n\nKarin Johnson and Barbara Roseman\, CSD professors emerita\, will speak at the ceremony.\n\nAfter the ceremony\, there will be an alumni panel discussion from 11 a.m.-noon in Hanson Hall\, Room 102\, with Dr. Janna Oetting '06\, Louisiana State University\; Dr. Pam Hadley '87\, University of Illinois\; Dr. Dan Fogerty '01\, University of South Carolina\; and Lisa Williams '06\, current graduate student.\n\nThe $3.5 million two-story addition will support enhanced teaching\, clinic services\, and a new master's program in speech pathology.&nbsp\;\n&nbsp\;\n
URL;VALUE=URI:https://www.augustana.edu/about-us/events/2019/betsey-brodahl-hall-expansion-groundbreaking
SUMMARY:Betsey Brodahl Hall expansion groundbreaking
DTSTART:20190427T150000Z
END:VEVENT
END:VCALENDAR
