BEGIN:VCALENDAR
VERSION:2.0
PRODID:-//hacksw/handcal//NONSGML v1.0//EN
CALSCALE:GREGORIAN
BEGIN:VEVENT
DTEND:20190416T013000Z
UID: 69e873d9e8b86
DTSTAMP:20260422T020809Z
LOCATION:Bahls Campus Leadership Center
DESCRIPTION:A&nbsp\;special Mass will offered for the Catholic&nbsp\;church in France.&nbsp\;The Votive Mass of the Blessed Virgin Mary will be offered&nbsp\;since the Notre Dame Cathedral was named after her.\n\nA candlelight vigil also will be held at 9 p.m. with the recitation of the Holy Rosary.&nbsp\;\n&nbsp\;\n
URL;VALUE=URI:https://www.augustana.edu/about-us/events/2019/mass-and-vigil-france
SUMMARY:Mass and vigil for France
DTSTART:20190416T013000Z
END:VEVENT
END:VCALENDAR
