BEGIN:VCALENDAR
VERSION:2.0
PRODID:-//hacksw/handcal//NONSGML v1.0//EN
CALSCALE:GREGORIAN
BEGIN:VEVENT
DTEND:20190404T030000Z
UID: 69e873ca38f25
DTSTAMP:20260422T020754Z
LOCATION:Softball Field
DESCRIPTION:The Vikings will take on Luther College in a softball double-header\, with games at 1 and 3 p.m.\n\nAugustana is 11-9 on the season.&nbsp\;The Norse have won eight in a row and are&nbsp\;18-3 overall\n
URL;VALUE=URI:https://www.augustana.edu/about-us/events/2019/softball-vs-luther
SUMMARY:Softball vs. Luther
DTSTART:20190404T030000Z
END:VEVENT
END:VCALENDAR
