BEGIN:VCALENDAR
VERSION:2.0
PRODID:-//hacksw/handcal//NONSGML v1.0//EN
CALSCALE:GREGORIAN
BEGIN:VEVENT
DTEND:20191012T140000Z
UID: 69e873da33a4a
DTSTAMP:20260422T020810Z
LOCATION:Carver P.E. Center
DESCRIPTION:High school students are invited to a special Fall Visit Day.\n\n• Explore more than 60 Augustana programs at the Opportunities Fair.\n\n• Get an in-depth introduction to an academic program\, led by an Augustana professor.&nbsp\;\n\n• Connect with your admissions counselor and find out tips about scholarships and applying.\n
URL;VALUE=URI:https://www.augustana.edu/about-us/events/2019/fall-visit-day
SUMMARY:Fall Visit Day
DTSTART:20191012T140000Z
END:VEVENT
END:VCALENDAR
