BEGIN:VCALENDAR
VERSION:2.0
PRODID:-//hacksw/handcal//NONSGML v1.0//EN
CALSCALE:GREGORIAN
BEGIN:VEVENT
DTEND:20190403T230000Z
UID: 69e880786761c
DTSTAMP:20260422T030200Z
LOCATION:Cool Beanz
DESCRIPTION:The Augustana Photo Club will show new work at Cool Beanz. All are invited to see the photos and enjoy free refreshments.\n
URL;VALUE=URI:https://www.augustana.edu/about-us/events/2019/student-photography-show
SUMMARY:Student photography show
DTSTART:20190403T230000Z
END:VEVENT
END:VCALENDAR
