BEGIN:VCALENDAR
VERSION:2.0
PRODID:-//hacksw/handcal//NONSGML v1.0//EN
CALSCALE:GREGORIAN
BEGIN:VEVENT
DTEND:20190428T180000Z
UID: 69e8834c3a4ba
DTSTAMP:20260422T031404Z
LOCATION:Hanson Hall of Science
DESCRIPTION:Chemistry students and faculty will&nbsp\;perform&nbsp\;science demonstrations for all ages. Hands-on kids' room and student demonstrations are available from 1-3 p.m.\n\nFaculty shows by Kaptain Kinetics (explosions) and Dr. Freeze (free ice cream) are at 2 p.m. and 3 p.m.\, and will last approximately 30 minutes each.\n
URL;VALUE=URI:https://www.augustana.edu/about-us/events/2019/chemistry-department-open-house
SUMMARY:Chemistry Department Open House
DTSTART:20190428T180000Z
END:VEVENT
END:VCALENDAR
