BEGIN:VCALENDAR
VERSION:2.0
PRODID:-//hacksw/handcal//NONSGML v1.0//EN
CALSCALE:GREGORIAN
BEGIN:VEVENT
DTEND:20190427T170000Z
UID: 69e883b3cc15d
DTSTAMP:20260422T031547Z
LOCATION:Carver P.E. Center
DESCRIPTION:The National Football League will hold a Round 6 pick of the league draft on April 27 at the athletic facilities of Augustana College.\n\nActivities begin at noon. There will be a&nbsp\;bounce house\, a clinic for children in grades 3-8 (registration required)\, and a vintage football game recreating one of the first professional football games with the Rock Island Independents vs. St. Paul Ideals..\n\nThis 2019 NFL draft will be the 84th annual meeting of franchises to select eligible players.&nbsp\;\n\nThe first game ever played featuring an NFL team was on Sept. 26\, 1920\, at Rock Island's Douglas Park. The Rock Island Independents\, which was an original National Football League franchise\, played St. Paul.\n\nRock Island is one of eight original charter cities of the NFL.\n
URL;VALUE=URI:https://www.augustana.edu/about-us/events/2019/national-football-league-round-6-draft
SUMMARY:National Football League round 6 draft 
DTSTART:20190427T170000Z
END:VEVENT
END:VCALENDAR
