BEGIN:VCALENDAR
VERSION:2.0
PRODID:-//hacksw/handcal//NONSGML v1.0//EN
CALSCALE:GREGORIAN
BEGIN:VEVENT
DTEND:20170115T000000Z
UID: 69e936b56bbf0
DTSTAMP:20260422T155933Z
LOCATION:Centennial Hall
DESCRIPTION:Passing the Torch is an annual community celebration and musical tribute in honor of Dr. Martin Luther King\, Jr.\n\nThe celebration will include music\, dance and awards. The&nbsp\;Rev. Reggie Williams will speak on the topic\,&nbsp\;“Solidarity: Use Your Voice.”\n\nThe community celebration in honor of Dr. King\, Jr.\, has a long history in the Quad Cities. Original founders included the Westbrook family of East Moline\, the NAACP and the Southern Christian Leadership Conference’s Iowa-Illinois Chapter. The celebration now is organized each year by Augustana College and the Dr. King Celebration Committee.\n
URL;VALUE=URI:https://www.augustana.edu/about-us/events/2016/martin-luther-king-celebration
SUMMARY:Martin Luther King celebration
DTSTART:20170115T000000Z
END:VEVENT
END:VCALENDAR
