BEGIN:VCALENDAR
VERSION:2.0
PRODID:-//hacksw/handcal//NONSGML v1.0//EN
CALSCALE:GREGORIAN
BEGIN:VEVENT
DTEND:20190329T210000Z
UID: 69e88347d9de8
DTSTAMP:20260422T031359Z
LOCATION:Hanson Hall of Science
DESCRIPTION:Amanda Tiffany '04 will present “Global Health: A View From the Front Lines.” Her career in epidemiology and global health has taken her from investigating HIV/AIDS in the Democratic Republic of Congo with the Centers for Disease Control and Prevention (CDC)\, to conducting Ebola outbreak surveillance for Doctors Without Borders in Guinea\, Liberia and Sierra Leone.&nbsp\;\n\nToday she is an Epidemic Intelligence Service Officer with the CDC in Anchorage\, Alaska\, providing expertise for rapid response to outbreaks and other acute public health concerns.\n\nTiffany majored in biology and Spanish at Augustana before earning her master’s degree in public health from the University of California\, Los Angeles\, and her Ph.D. in epidemiology from the University of Basel’s Swiss Tropical and Public Health Institute.\n
URL;VALUE=URI:https://www.augustana.edu/about-us/events/2019/global-health-view-front-lines
SUMMARY:Global Health: A View From the Front Lines
DTSTART:20190329T210000Z
END:VEVENT
END:VCALENDAR
