BEGIN:VCALENDAR
VERSION:2.0
PRODID:-//hacksw/handcal//NONSGML v1.0//EN
CALSCALE:GREGORIAN
BEGIN:VEVENT
DTEND:20211016T153000Z
UID: 69e88a9a16fe4
DTSTAMP:20260422T034514Z
LOCATION:Saukie Golf Course 
DESCRIPTION:Augustana college will host an invitational track and field meet for men and women.\n
URL;VALUE=URI:https://www.augustana.edu/about-us/events/2021/augustana-invitational
SUMMARY:Augustana Invitational
DTSTART:20211016T153000Z
END:VEVENT
END:VCALENDAR
