BEGIN:VCALENDAR
VERSION:2.0
PRODID:-//hacksw/handcal//NONSGML v1.0//EN
CALSCALE:GREGORIAN
BEGIN:VEVENT
DTEND:20190329T000000Z
UID: 69e88a9aa28db
DTSTAMP:20260422T034514Z
LOCATION:Denkmann Memorial Building
DESCRIPTION:British economist\, journalist and academic Frances Anne Cairncross will give the 2019 Ellwood F. Curtis Family Lecturer in Public Affairs\, “What Future has the Press in a Free Society?”\n\nCairncross is a Woodrow Wilson Visiting Fellow with the Council of Independent Colleges (CIC)\, and in addition to the lecture\, she will visit with classes and student groups at Augustana.\n\nShe is a former senior editor at The Economist and head of Oxford College. Earlier this year\, Cairncross was appointed to spearhead a review and recommendation to the British government on the future of high quality journalism.\n\nThe Curtis Lecture was established in memory of Ellwood F. Curtis\, who served as president and vice chairman of Deere &amp\; Company during his 42-year career with the Moline-based manufacturer. Curtis was active in the Quad City community and was co-chair of Augustana College's Agenda for Leadership Campaign.\n\n• See interview at QCOnline.com\n
URL;VALUE=URI:https://www.augustana.edu/about-us/events/2019/curtis-lecture-what-future-has-press-free-society
SUMMARY:Curtis Lecture: 'What Future has the Press in a Free Society?'
DTSTART:20190329T000000Z
END:VEVENT
END:VCALENDAR
