BEGIN:VCALENDAR
VERSION:2.0
PRODID:-//hacksw/handcal//NONSGML v1.0//EN
CALSCALE:GREGORIAN
BEGIN:VEVENT
DTEND:20190322T000000Z
UID: 69e88a4453799
DTSTAMP:20260422T034348Z
LOCATION:Olin Center for Educational Technology
DESCRIPTION:Dr. Jacki Thompson Rand\, associate professor of history and the coordinator of Native American and indigenous studies at the University of Iowa\, will give a public presentation\,&nbsp\;"After Indian Removal: A Persistent Indigenous Presence in the American Midwest."\n\nShe is the author of "Kiowa Humanity and the Invasion of the State" (2008)\, and previously worked at the Smithsonian Institution engaging tribal communities in support of the National Museum of the American Indian.\n\nHer talk will discuss the importance of understanding removal of indigenous people from the U.S. and the possibilities of recognizing such removals\, on campus\, in the Quad Cities community\, and in the region.\n
URL;VALUE=URI:https://www.augustana.edu/about-us/events/2019/after-indian-removal-persistent-indigenous-presence-american-midwest
SUMMARY:After Indian Removal: A Persistent Indigenous Presence in the American Midwest
DTSTART:20190322T000000Z
END:VEVENT
END:VCALENDAR
