BEGIN:VCALENDAR
VERSION:2.0
PRODID:-//hacksw/handcal//NONSGML v1.0//EN
CALSCALE:GREGORIAN
BEGIN:VEVENT
DTEND:20190413T140000Z
UID: 69e88a74b6ff1
DTSTAMP:20260422T034436Z
LOCATION:The Gerber Center for Student Life
DESCRIPTION:It Begins with "A" is a day for admitted seniors to connect with others who have chosen Augustana\, and those still deciding.\n\nSchedule\n9 a.m. Optional tour (full tour or residence halls only)\n10 a.m. Check-in\n10:30 a.m. "Where can 'A' take you?" welcome address\n11 a.m. Various sessions and lunch\n2 p.m. Closing remarks and celebration\n2:30 p.m. Wrap-up\n3 p.m. Entrepreneurial Center open house (optional)\n\nPlease email or call the Office of Admissions at 309-794-7341 for more information.\n
URL;VALUE=URI:https://www.augustana.edu/about-us/events/2019/it-begins
SUMMARY:It Begins with "A"
DTSTART:20190413T140000Z
END:VEVENT
END:VCALENDAR
