BEGIN:VCALENDAR
VERSION:2.0
PRODID:-//hacksw/handcal//NONSGML v1.0//EN
CALSCALE:GREGORIAN
BEGIN:VEVENT
DTEND:20190322T000000Z
UID: 69e88a69542d5
DTSTAMP:20260422T034425Z
LOCATION:Swanson Stadium/Brunner Field
DESCRIPTION:The Vikings will play their 2019 home opener&nbsp\;against the Cornell College Rams.\n\nAugustana wrapped up its spring season in&nbsp\;Florida with a 9-2-1 record.\n
URL;VALUE=URI:https://www.augustana.edu/about-us/events/2019/baseball-vs-cornell
SUMMARY:Baseball vs. Cornell
DTSTART:20190322T000000Z
END:VEVENT
END:VCALENDAR
