BEGIN:VCALENDAR
VERSION:2.0
PRODID:-//hacksw/handcal//NONSGML v1.0//EN
CALSCALE:GREGORIAN
BEGIN:VEVENT
DTEND:20170429T003000Z
UID: 69e936f81f341
DTSTAMP:20260422T160040Z
LOCATION:Brunner Theatre Center
DESCRIPTION:Augustana presents the "Titanic: the Musical\," &nbsp\;winner of five Tony Awards April 28-29 and May 5-6 at 7:30 p.m.\, &nbsp\;and April 30 and May 7 at 1:30 p.m.\n\nStudents and alumni teamed up for the production.\n
URL;VALUE=URI:https://www.augustana.edu/about-us/events/2016/titanic-musical
SUMMARY:Titanic: the Musical
DTSTART:20170429T003000Z
END:VEVENT
END:VCALENDAR
