BEGIN:VCALENDAR
VERSION:2.0
PRODID:-//hacksw/handcal//NONSGML v1.0//EN
CALSCALE:GREGORIAN
BEGIN:VEVENT
DTEND:20190217T000000Z
UID: 69e74fa8d0215
DTSTAMP:20260421T052128Z
LOCATION:Naperville Country Club
DESCRIPTION:Camp Kesem at Augustana will host a night of magic and fun to raise funds for Camp Kesem. Camp Kesem provides&nbsp\;free summer camps for children who have been affected by a parent's cancer.\n\nDoors open at 6 p.m. Attire is dressy casual.\n\nAdmission includes the cocktail hour and dinner.\n
URL;VALUE=URI:https://www.augustana.edu/about-us/events/2019/camp-kesem-make-magic
SUMMARY:Camp Kesem Make The Magic
DTSTART:20190217T000000Z
END:VEVENT
END:VCALENDAR
