BEGIN:VCALENDAR
VERSION:2.0
PRODID:-//hacksw/handcal//NONSGML v1.0//EN
CALSCALE:GREGORIAN
BEGIN:VEVENT
DTEND:20170423T210000Z
UID: 69e936952580e
DTSTAMP:20260422T155901Z
LOCATION:Denkmann Memorial Building
DESCRIPTION:Augustana faculty members Deborah Dakin\, viola\, and Robert Elfline\, piano\, will perform with guest violinist Diane Phoenix-Neal.\n\nPhoenix-Neal is a professor of music at George Madison University in Virginia. She performs regularly throughout the U.S. and abroad as a chamber musician and&nbsp\;soloist.\n\nDakin is an&nbsp\;adjunct assistant professor of music. She&nbsp\;is principal violist with the Quad City Symphony\, and earned a&nbsp\;doctor of musical arts from the University of Iowa.\n\nElfline is an&nbsp\;associate professor of music. He earned a doctor of musical arts from the University of Cincinnati\, College-Conservatory of Music.\n\nProgram\n\nSiete Canciones Populares Españolas\nby Manuel de Falla 1876-1946 (arrranged for viola Emilio Mateu y Miguel Zanetti)\n\nEl Paño Moruno\nSequidilla Murciana\nAsturiana\nCanción\nPolo\nNana\nJota\n\nBerceuse (1975) \nby Phillip Magnuson from "Lullabies for Elizabeth"\n\nCeaseless Spinning of Things\n\nTarantula - Singing\nChorale in Blue\n\nSonata for Viola and Piano (1979) \nby George Rochberg 1918-2005\n\nAllegro moderato\nAdagio lamentoso\nFantasia: Epilogue\, allegro moderato\, ma un poco parlando\n
URL;VALUE=URI:https://www.augustana.edu/about-us/events/2016/recital-deborah-dakin-robert-efline-and-diane-phoenix-neal
SUMMARY:Recital: Deborah Dakin\, Robert Efline and Diane Phoenix-Neal
DTSTART:20170423T210000Z
END:VEVENT
END:VCALENDAR
