BEGIN:VCALENDAR
VERSION:2.0
PRODID:-//hacksw/handcal//NONSGML v1.0//EN
CALSCALE:GREGORIAN
BEGIN:VEVENT
DTEND:20171214T010000Z
UID: 69e93746ad510
DTSTAMP:20260422T160158Z
LOCATION:Carver P.E. Center
DESCRIPTION:The Augustana Vikings will take on the Rockford University Regents.\n\nFans can see the game online and view live stats.\n\nUpcoming home games\n\nDec. 6 vs. North Central\, 7 p.m.\nDec. 13 vs. Rockford\, 7 p.m.\nJan. 6 vs. Millikin\, 7 p.m.\nJan. 10 vs. Wheaton\, 7 p.m.\nJan. 13 vs. Carroll\, 7 p.m.\nJan. 27 vs. Carthage\, 7 p.m.\nJan. 31 vs. Illinois Wesleyan\, 7 p.m.\nFeb. 17 vs. North Park\, 7 p.m.\nFeb. 20 vs. Elmhurst\, 7 p.m.\n
URL;VALUE=URI:https://www.augustana.edu/about-us/events/2016/mens-basketball-vs-rockford-university
SUMMARY:Men's basketball vs. Rockford University
DTSTART:20171214T010000Z
END:VEVENT
END:VCALENDAR
