BEGIN:VCALENDAR
VERSION:2.0
PRODID:-//hacksw/handcal//NONSGML v1.0//EN
CALSCALE:GREGORIAN
BEGIN:VEVENT
DTEND:20221111T233000Z
UID: 69e7d0c3df3da
DTSTAMP:20260421T143219Z
LOCATION:The Gerber Center for Student Life
DESCRIPTION:The American Scandinavian Association at Augustana will host its annual lutefisk and meatball supper.\n\nThe social gathering with refreshments will start with punch at 5:30 p.m.&nbsp\;Dinner will begin at 6. In addition to the traditional lutefisk and meatballs\, assorted side dishes and desserts will be served.\n\nThe dinner is a scholarship fundraiser.&nbsp\;\n\nReservations are due Nov. 4. Mail the names of guests who will attend\, a phone number to contact\, and a check for the total amount to Loryann Eis\, 2037 15th St.\, Moline\, Ill.\, 61265\, or call 309-762-8303. Checks should be made payable to ASA.\n\n&nbsp\;\n\n&nbsp\;\n
URL;VALUE=URI:https://www.augustana.edu/about-us/events/2022/lutefisk-and-meatball-dinner
SUMMARY:Lutefisk and meatball dinner
DTSTART:20221111T233000Z
END:VEVENT
END:VCALENDAR
