BEGIN:VCALENDAR
VERSION:2.0
PRODID:-//hacksw/handcal//NONSGML v1.0//EN
CALSCALE:GREGORIAN
BEGIN:VEVENT
DTEND:20190116T150000Z
UID: 69e88a74357ed
DTSTAMP:20260422T034436Z
LOCATION:The Gerber Center for Student Life
DESCRIPTION:Symposium Day is an alternative day of learning that includes presentations by faculty\, students\, staff\, alumni and invited speakers.&nbsp\;\n\nProgramming will include three concurrent sessions from 9 a.m.-12:30 p.m.&nbsp\;The afternoon will be reserved for learning through the advising relationship. (See the complete schedule.)\n\nIn addition to programs led by individuals across campus\, there will be&nbsp\; featured speakers: Dr. Rebecca Ginsburg\, director of the&nbsp\;Education Justice Project\, University of Illinois\;&nbsp\;Dr. Scott Warren\, a cultural geographer from Ajo\, Ariz.\;&nbsp\;Lizeth Tamayo ’16\, a doctoral student in genetic epidemiology\, University of Chicago\; and&nbsp\;Fury Young\, BL Shirelle and Maxwell Melvins of Die&nbsp\;Jim Crow.\n\n&nbsp\;\n
URL;VALUE=URI:https://www.augustana.edu/about-us/events/2019/symposium-day
SUMMARY:Symposium Day
DTSTART:20190116T150000Z
END:VEVENT
END:VCALENDAR
