BEGIN:VCALENDAR
VERSION:2.0
PRODID:-//hacksw/handcal//NONSGML v1.0//EN
CALSCALE:GREGORIAN
BEGIN:VEVENT
DTEND:20181213T003000Z
UID: 69e89df599cc4
DTSTAMP:20260422T050749Z
LOCATION:Cool Beanz
DESCRIPTION:All are invited to the opening of new art exhibit of work by Augustana students in fiber\, tapestries and fabric designs.\n\nFree hors d'oeuvres will be served.\n
URL;VALUE=URI:https://www.augustana.edu/about-us/events/2018/student-art-exhibit-opening
SUMMARY:Student art exhibit opening
DTSTART:20181213T003000Z
END:VEVENT
END:VCALENDAR
