BEGIN:VCALENDAR
VERSION:2.0
PRODID:-//hacksw/handcal//NONSGML v1.0//EN
CALSCALE:GREGORIAN
BEGIN:VEVENT
DTEND:20181208T030000Z
UID: 69e74e9b5e15e
DTSTAMP:20260421T051659Z
LOCATION:
DESCRIPTION:Students are invited to attend Augustana's improv troupe\, Heywire\, for a holiday-themed show. The show will have special guest openers\, Outside The Box.&nbsp\;\n
URL;VALUE=URI:https://www.augustana.edu/about-us/events/2018/heywire-holiday-comedy-special
SUMMARY:Heywire holiday comedy special
DTSTART:20181208T030000Z
END:VEVENT
END:VCALENDAR
