BEGIN:VCALENDAR
VERSION:2.0
PRODID:-//hacksw/handcal//NONSGML v1.0//EN
CALSCALE:GREGORIAN
BEGIN:VEVENT
DTEND:20221201T223000Z
UID: 69e76cd18161c
DTSTAMP:20260421T072553Z
LOCATION:Old Main 
DESCRIPTION:Join President Andrea Talentino for the annual lighting of the Christmas tree.\n\nGather by the tree for holiday treats and festivities.&nbsp\;\n
URL;VALUE=URI:https://www.augustana.edu/about-us/events/2022/lighting-christmas-tree
SUMMARY:Lighting of the Christmas tree
DTSTART:20221201T223000Z
END:VEVENT
END:VCALENDAR
