BEGIN:VCALENDAR
VERSION:2.0
PRODID:-//hacksw/handcal//NONSGML v1.0//EN
CALSCALE:GREGORIAN
BEGIN:VEVENT
DTEND:20181201T170000Z
UID: 69e89564af19d
DTSTAMP:20260422T043116Z
LOCATION:
DESCRIPTION:Join the Augustana community and the College Hill neighborhood for cookies\, hot chocolate\, Christmas crafts and more while checking out the new pocket park and local shops. Events run from 11 a.m.-2 p.m.\n
URL;VALUE=URI:https://www.augustana.edu/about-us/events/2018/college-hill-shop-and-stroll
SUMMARY:College Hill Shop and Stroll
DTSTART:20181201T170000Z
END:VEVENT
END:VCALENDAR
