BEGIN:VCALENDAR
VERSION:2.0
PRODID:-//hacksw/handcal//NONSGML v1.0//EN
CALSCALE:GREGORIAN
BEGIN:VEVENT
DTEND:20190113T000000Z
UID: 69e8966eb5487
DTSTAMP:20260422T043542Z
LOCATION:Centennial Hall
DESCRIPTION:The theme for this year's celebration is "Be the Light\," from from the Martin Luther King Jr. quote: "Only in the darkness can you see the stars."&nbsp\;\n\nThere will be art\, poetry\, dance and music at this annual event.&nbsp\;\n\nThe featured guests will be Dexter Walker and Zion Movement\, a competition choir from&nbsp\;Chicago. This choir was&nbsp\;the Chicago regional winner and Verizon's people choice winner of the Verizon "How Sweet the Sound" competition.\n\nAlso appearing will be artist&nbsp\;Chinetana Phounsavath\, as well as the Teranga Drum Circle. &nbsp\;\n
URL;VALUE=URI:https://www.augustana.edu/about-us/events/2018/martin-luther-king-jr-day-community-celebration
SUMMARY:Martin Luther King Jr. Day Community Celebration
DTSTART:20190113T000000Z
END:VEVENT
END:VCALENDAR
