BEGIN:VCALENDAR
VERSION:2.0
PRODID:-//hacksw/handcal//NONSGML v1.0//EN
CALSCALE:GREGORIAN
BEGIN:VEVENT
DTEND:20170318T010000Z
UID: 69e936b56b9f8
DTSTAMP:20260422T155933Z
LOCATION:Denkmann Memorial Building
DESCRIPTION:A concert celebrating St. Patrick’s Day will be performed by the Augustana Flute Choir\,&nbsp\;Augustana flute trios and quartets\, and Heart Strings\, a Celtic quartet with flute\, violin\, guitar\,&nbsp\;and recorder/Celtic harp. Flute instructor Janet Stodd and classical guitar instructor Randy Pobanz will perform a duet.\n\n&nbsp\;\n
URL;VALUE=URI:https://www.augustana.edu/about-us/events/2016/st-patricks-day-concert
SUMMARY:St. Patrick's Day Concert
DTSTART:20170318T010000Z
END:VEVENT
END:VCALENDAR
