BEGIN:VCALENDAR
VERSION:2.0
PRODID:-//hacksw/handcal//NONSGML v1.0//EN
CALSCALE:GREGORIAN
BEGIN:VEVENT
DTEND:20181103T170000Z
UID: 69e895ab7590b
DTSTAMP:20260422T043227Z
LOCATION:Redbird Arena
DESCRIPTION:The Augustana men’s basketball team will take on Illinois State University in an exhibition game.\n\nThe game will be played at Redbird Arena in Normal\, Ill.\,&nbsp\;with tip-off set for noon.\n\nTickets&nbsp\;can be purchased on line at GoRedbirds.com or by calling 309-438-8000. Doors will open at 11&nbsp\;a.m.&nbsp\;\n\nAfter the game the Augustana alumni and advancement offices are&nbsp\;sponsoring a get-together at Medici\, 120 West North St.\, Normal.&nbsp\;There is no pre-registration for the event.\n
URL;VALUE=URI:https://www.augustana.edu/about-us/events/2018/mens-basketball-augustana-vs-illinois-state
SUMMARY:Men's basketball: Augustana vs. Illinois State
DTSTART:20181103T170000Z
END:VEVENT
END:VCALENDAR
